BEGIN:VCALENDAR
VERSION:2.0
PRODID:-//wp-events-plugin.com//7.2.3.1//EN
TZID:Europe/Berlin
X-WR-TIMEZONE:Europe/Berlin
BEGIN:VEVENT
UID:3@seelenbaum-weiden.de
DTSTART;TZID=Europe/Berlin:20200430T000000
DTEND;TZID=Europe/Berlin:20200430T140000
DTSTAMP:20200419T115735Z
URL:https://seelenbaum-weiden.de/events/neue-veranstaltung/
SUMMARY:Bioenergetische Detox-Massage
DESCRIPTION:Diese Massage ist wunderbar entspannend...\n\nSie regeneriert u
 nd regt die Entgiftung an\, optimal als Ergänzung zu jeder Fastenkur\n\n&
 nbsp\;\n\nErholung für Körper\, Geist und Seele\n\n45 Min.  35\,00 €\
 n\n&nbsp\;\n\nAuf Wunsch mit Räucherung zum Reinigen der Aura\n\n60 Min. 
 45\,00 €\n\nTerminvereinbarung über Tel: 0961/4705326\n\n       
                                      
             0170 3789109\n\nHerzliche Grüße\n\nPetra Tiefenth
 äler
LOCATION:Weiden\, Mörikestraße 6\, weiden\, Deutschland
X-APPLE-STRUCTURED-LOCATION;VALUE=URI;X-ADDRESS=Mörikestraße 6\, weiden\,
  Deutschland;X-APPLE-RADIUS=100;X-TITLE=Weiden:geo:0,0
END:VEVENT
BEGIN:VEVENT
UID:4@seelenbaum-weiden.de
DTSTART;TZID=Europe/Berlin:20200621T180000
DTEND;TZID=Europe/Berlin:20200621T203000
DTSTAMP:20200523T184103Z
URL:https://seelenbaum-weiden.de/events/feuerritual/
SUMMARY:Feuerritual
DESCRIPTION:&nbsp\;\n\n&nbsp\;\n\n&nbsp\;
ATTACH;FMTTYPE=image/jpeg:https://seelenbaum-weiden.de/wp-content/uploads/
 2020/05/20200521_095639-scaled.jpg
END:VEVENT
BEGIN:VTIMEZONE
TZID:Europe/Berlin
X-LIC-LOCATION:Europe/Berlin
BEGIN:DAYLIGHT
DTSTART:20200329T030000
TZOFFSETFROM:+0100
TZOFFSETTO:+0200
TZNAME:CEST
END:DAYLIGHT
END:VTIMEZONE
END:VCALENDAR